BEGIN:VCALENDAR
VERSION:2.0
PRODID:-//Anne Ermens - ECPv6.15.20//NONSGML v1.0//EN
CALSCALE:GREGORIAN
METHOD:PUBLISH
X-WR-CALNAME:Anne Ermens
X-ORIGINAL-URL:https://anne-ermens.com
X-WR-CALDESC:Evenementen voor Anne Ermens
REFRESH-INTERVAL;VALUE=DURATION:PT1H
X-Robots-Tag:noindex
X-PUBLISHED-TTL:PT1H
BEGIN:VTIMEZONE
TZID:Europe/Amsterdam
BEGIN:DAYLIGHT
TZOFFSETFROM:+0100
TZOFFSETTO:+0200
TZNAME:CEST
DTSTART:20220327T010000
END:DAYLIGHT
BEGIN:STANDARD
TZOFFSETFROM:+0200
TZOFFSETTO:+0100
TZNAME:CET
DTSTART:20221030T010000
END:STANDARD
BEGIN:DAYLIGHT
TZOFFSETFROM:+0100
TZOFFSETTO:+0200
TZNAME:CEST
DTSTART:20230326T010000
END:DAYLIGHT
BEGIN:STANDARD
TZOFFSETFROM:+0200
TZOFFSETTO:+0100
TZNAME:CET
DTSTART:20231029T010000
END:STANDARD
BEGIN:DAYLIGHT
TZOFFSETFROM:+0100
TZOFFSETTO:+0200
TZNAME:CEST
DTSTART:20240331T010000
END:DAYLIGHT
BEGIN:STANDARD
TZOFFSETFROM:+0200
TZOFFSETTO:+0100
TZNAME:CET
DTSTART:20241027T010000
END:STANDARD
BEGIN:DAYLIGHT
TZOFFSETFROM:+0100
TZOFFSETTO:+0200
TZNAME:CEST
DTSTART:20250330T010000
END:DAYLIGHT
BEGIN:STANDARD
TZOFFSETFROM:+0200
TZOFFSETTO:+0100
TZNAME:CET
DTSTART:20251026T010000
END:STANDARD
BEGIN:DAYLIGHT
TZOFFSETFROM:+0100
TZOFFSETTO:+0200
TZNAME:CEST
DTSTART:20260329T010000
END:DAYLIGHT
BEGIN:STANDARD
TZOFFSETFROM:+0200
TZOFFSETTO:+0100
TZNAME:CET
DTSTART:20261025T010000
END:STANDARD
BEGIN:DAYLIGHT
TZOFFSETFROM:+0100
TZOFFSETTO:+0200
TZNAME:CEST
DTSTART:20270328T010000
END:DAYLIGHT
BEGIN:STANDARD
TZOFFSETFROM:+0200
TZOFFSETTO:+0100
TZNAME:CET
DTSTART:20271031T010000
END:STANDARD
END:VTIMEZONE
BEGIN:VEVENT
DTSTART;TZID=Europe/Amsterdam:20260404T140000
DTEND;TZID=Europe/Amsterdam:20260404T163000
DTSTAMP:20260420T115747
CREATED:20260206T132617Z
LAST-MODIFIED:20260206T172633Z
UID:52217-1775311200-1775320200@anne-ermens.com
SUMMARY:Workshop Ukelele & Zang in thema 'Kampvuurliedjes'\, Breda (voor beginners\, eigen ukelele niet nodig)
DESCRIPTION:Hier kan je meer lezen en een kaartje bestellen.
URL:https://anne-ermens.com/agenda/workshop-ukelele-zang-in-thema-kampvuurliedjes-breda-voor-beginners-eigen-ukelele-niet-nodig-12/
LOCATION:Anne Ermens\, Koepeldistrict\, Breda\, Netherlands
CATEGORIES:Workshop Ukelele & Zang
END:VEVENT
BEGIN:VEVENT
DTSTART;TZID=Europe/Amsterdam:20260228T140000
DTEND;TZID=Europe/Amsterdam:20260228T163000
DTSTAMP:20260420T115747
CREATED:20251031T143846Z
LAST-MODIFIED:20251207T105554Z
UID:51896-1772287200-1772296200@anne-ermens.com
SUMMARY:Workshop Ukelele & Zang in thema 'Kampvuurliedjes'\, Breda (voor beginners\, eigen ukelele niet nodig)
DESCRIPTION:Hier kan je meer lezen en een kaartje bestellen.
URL:https://anne-ermens.com/agenda/workshop-ukelele-zang-in-thema-kerstliedjes-breda-voor-beginners-eigen-ukelele-niet-nodig-5/
LOCATION:Anne Ermens\, Koepeldistrict\, Breda\, Netherlands
CATEGORIES:Workshop Ukelele & Zang
END:VEVENT
BEGIN:VEVENT
DTSTART;TZID=Europe/Amsterdam:20260125T140000
DTEND;TZID=Europe/Amsterdam:20260125T163000
DTSTAMP:20260420T115747
CREATED:20251031T143743Z
LAST-MODIFIED:20251207T105529Z
UID:51895-1769349600-1769358600@anne-ermens.com
SUMMARY:Workshop Ukelele & Zang in thema 'Kampvuurliedjes'\, Breda (voor beginners\, eigen ukelele niet nodig)
DESCRIPTION:Hier kan je meer lezen en een kaartje bestellen.
URL:https://anne-ermens.com/agenda/workshop-ukelele-zang-in-thema-kampvuurliedjes-breda-voor-beginners-eigen-ukelele-niet-nodig-11/
LOCATION:Anne Ermens\, Koepeldistrict\, Breda\, Netherlands
CATEGORIES:Workshop Ukelele & Zang
END:VEVENT
BEGIN:VEVENT
DTSTART;TZID=Europe/Amsterdam:20251213T140000
DTEND;TZID=Europe/Amsterdam:20251213T163000
DTSTAMP:20260420T115747
CREATED:20251031T143910Z
LAST-MODIFIED:20251031T153040Z
UID:51897-1765634400-1765643400@anne-ermens.com
SUMMARY:Workshop Ukelele & Zang in thema 'Kerstliedjes'\, Breda (voor beginners\, eigen ukelele niet nodig)
DESCRIPTION:Hier kan je meer lezen en een kaartje bestellen.
URL:https://anne-ermens.com/agenda/workshop-ukelele-zang-in-thema-kerstliedjes-breda-voor-beginners-eigen-ukelele-niet-nodig-6/
LOCATION:Anne Ermens\, Koepeldistrict\, Breda\, Netherlands
CATEGORIES:Workshop Ukelele & Zang
END:VEVENT
BEGIN:VEVENT
DTSTART;VALUE=DATE:20251010
DTEND;VALUE=DATE:20251011
DTSTAMP:20260420T115747
CREATED:20250511T143230Z
LAST-MODIFIED:20250913T170734Z
UID:50887-1760054400-1760140799@anne-ermens.com
SUMMARY:Workshop Personeelsfeest
DESCRIPTION:Ook nieuwsgierig naar zo’n workshop\, kijk dan hier!
URL:https://anne-ermens.com/agenda/workshop-personeelsfeest/
CATEGORIES:Workshop Ukelele & Zang,Workshop Zang
END:VEVENT
BEGIN:VEVENT
DTSTART;TZID=Europe/Amsterdam:20250928T140000
DTEND;TZID=Europe/Amsterdam:20250928T163000
DTSTAMP:20260420T115747
CREATED:20250830T191737Z
LAST-MODIFIED:20250830T192011Z
UID:51265-1759068000-1759077000@anne-ermens.com
SUMMARY:Workshop Ukelele & Zang in thema 'Kampvuurliedjes'\, Breda (voor beginners\, eigen ukelele niet nodig)
DESCRIPTION:Lees meer en bestel je kaartje in de webshop!
URL:https://anne-ermens.com/agenda/workshop-ukelele-zang-in-thema-kampvuurliedjes-breda-voor-beginners-eigen-ukelele-niet-nodig-10/
LOCATION:Anne Ermens\, Koepeldistrict\, Breda\, Netherlands
CATEGORIES:Workshop Ukelele & Zang
END:VEVENT
BEGIN:VEVENT
DTSTART;TZID=Europe/Amsterdam:20250927T140000
DTEND;TZID=Europe/Amsterdam:20250927T163000
DTSTAMP:20260420T115747
CREATED:20250830T191721Z
LAST-MODIFIED:20250830T191721Z
UID:51264-1758981600-1758990600@anne-ermens.com
SUMMARY:Workshop Ukelele & Zang in thema 'Kampvuurliedjes'\, Breda (voor beginners\, eigen ukelele niet nodig)
DESCRIPTION:Lees meer en bestel je kaartje in de webshop!
URL:https://anne-ermens.com/agenda/workshop-ukelele-zang-in-thema-kampvuurliedjes-breda-voor-beginners-eigen-ukelele-niet-nodig-9/
LOCATION:Anne Ermens\, Koepeldistrict\, Breda\, Netherlands
CATEGORIES:Workshop Ukelele & Zang
END:VEVENT
BEGIN:VEVENT
DTSTART;VALUE=DATE:20250510
DTEND;VALUE=DATE:20250511
DTSTAMP:20260420T115747
CREATED:20250402T110108Z
LAST-MODIFIED:20250402T110108Z
UID:50364-1746835200-1746921599@anne-ermens.com
SUMMARY:Workshop Ukelele & Zang\, Verjaardag\, Gouda (Besloten)
DESCRIPTION:Ik kan/wil/mag je hier niet meer over vertellen\, het is een besloten workshop. Ook nieuwsgierig naar zo’n workshop\, kijk dan hier!
URL:https://anne-ermens.com/agenda/workshop-ukelele-zang-verjaardag-gouda-besloten/
CATEGORIES:Workshop Ukelele & Zang
END:VEVENT
BEGIN:VEVENT
DTSTART;TZID=Europe/Amsterdam:20250412T133000
DTEND;TZID=Europe/Amsterdam:20250412T160000
DTSTAMP:20260420T115747
CREATED:20250210T120117Z
LAST-MODIFIED:20250211T123814Z
UID:49282-1744464600-1744473600@anne-ermens.com
SUMMARY:Workshop Ukelele & Zang in thema 'Kampvuurliedjes'\, Breda (voor beginners\, eigen ukelele niet nodig)
DESCRIPTION:Lees meer en bestel je kaartje in de webshop!
URL:https://anne-ermens.com/agenda/workshop-ukelele-zang-in-thema-kampvuurliedjes-breda-voor-beginners-eigen-ukelele-niet-nodig-8/
CATEGORIES:Workshop Ukelele & Zang
END:VEVENT
BEGIN:VEVENT
DTSTART;TZID=Europe/Amsterdam:20250322T133000
DTEND;TZID=Europe/Amsterdam:20250322T160000
DTSTAMP:20260420T115747
CREATED:20241209T200025Z
LAST-MODIFIED:20241209T200434Z
UID:48513-1742650200-1742659200@anne-ermens.com
SUMMARY:Workshop Ukelele & Zang in thema 'Kampvuurliedjes'\, Breda (voor beginners\, eigen ukelele niet nodig)
DESCRIPTION:Lees meer en bestel je kaartje in de webshop!
URL:https://anne-ermens.com/agenda/workshop-ukelele-zang-in-thema-kampvuurliedjes-breda-voor-beginners-eigen-ukelele-niet-nodig-7/
LOCATION:Anne Ermens\, Koepeldistrict\, Breda\, Netherlands
CATEGORIES:Workshop Ukelele & Zang
END:VEVENT
BEGIN:VEVENT
DTSTART;TZID=Europe/Amsterdam:20250104T133000
DTEND;TZID=Europe/Amsterdam:20250104T160000
DTSTAMP:20260420T115747
CREATED:20241019T181126Z
LAST-MODIFIED:20241029T144448Z
UID:47882-1735997400-1736006400@anne-ermens.com
SUMMARY:Workshop Ukelele & Zang in thema ‘Top 2000’\, Breda (voor beginners\, eigen ukelele niet nodig)
DESCRIPTION:Lees meer en bestel je kaartje in de webshop!
URL:https://anne-ermens.com/agenda/workshop-ukelele-zang-in-thema-top-2000-breda-voor-beginners-eigen-ukelele-niet-nodig/
CATEGORIES:Workshop Ukelele & Zang
ATTACH;FMTTYPE=image/webp:https://anne-ermens.com/wp-content/uploads/2024/10/Top-2000-met-Ukelele-Zang-workshop-kaartje-Webshop-1730211577.webp
END:VEVENT
BEGIN:VEVENT
DTSTART;TZID=Europe/Amsterdam:20241130T133000
DTEND;TZID=Europe/Amsterdam:20241130T160000
DTSTAMP:20260420T115747
CREATED:20240124T220024Z
LAST-MODIFIED:20241029T143848Z
UID:40360-1732973400-1732982400@anne-ermens.com
SUMMARY:Workshop Ukelele & Zang in thema 'Kerstliedjes'\, Breda (voor beginners\, eigen ukelele niet nodig)
DESCRIPTION:Lees meer en bestel je kaartje in de webshop!
URL:https://anne-ermens.com/agenda/workshop-ukelele-zang-in-thema-kerstliedjes-breda-voor-beginners-eigen-ukelele-niet-nodig-4/
LOCATION:Anne Ermens\, Koepeldistrict\, Breda\, Netherlands
CATEGORIES:Workshop Ukelele & Zang
ATTACH;FMTTYPE=image/webp:https://anne-ermens.com/wp-content/uploads/2024/09/Kerstliedjes-met-Ukelele-Zang-workshop-kaartje-Webshop-1730197688.webp
END:VEVENT
BEGIN:VEVENT
DTSTART;TZID=Europe/Amsterdam:20241129T193000
DTEND;TZID=Europe/Amsterdam:20241129T220000
DTSTAMP:20260420T115747
CREATED:20240124T215948Z
LAST-MODIFIED:20241029T143839Z
UID:40358-1732908600-1732917600@anne-ermens.com
SUMMARY:Workshop Ukelele & Zang in thema 'Kerstliedjes'\, Breda (voor beginners\, eigen ukelele niet nodig)
DESCRIPTION:Lees meer en bestel je kaartje in de webshop!
URL:https://anne-ermens.com/agenda/workshop-ukelele-zang-in-thema-kerstliedjes-breda-voor-beginners-eigen-ukelele-niet-nodig-3/
LOCATION:Anne Ermens\, Koepeldistrict\, Breda\, Netherlands
CATEGORIES:Workshop Ukelele & Zang
ATTACH;FMTTYPE=image/webp:https://anne-ermens.com/wp-content/uploads/2024/09/Kerstliedjes-met-Ukelele-Zang-workshop-kaartje-Webshop-1730197688.webp
END:VEVENT
BEGIN:VEVENT
DTSTART;VALUE=DATE:20241125
DTEND;VALUE=DATE:20241126
DTSTAMP:20260420T115747
CREATED:20241109T163458Z
LAST-MODIFIED:20241109T163458Z
UID:48294-1732492800-1732579199@anne-ermens.com
SUMMARY:Workshop Teamuitje Humankind
DESCRIPTION:Ook nieuwsgierig naar zo’n workshop\, kijk dan hier!
URL:https://anne-ermens.com/agenda/workshop-teamuitje-humankind/
CATEGORIES:Workshop Ukelele & Zang
END:VEVENT
BEGIN:VEVENT
DTSTART;TZID=Europe/Amsterdam:20241116T133000
DTEND;TZID=Europe/Amsterdam:20241116T160000
DTSTAMP:20260420T115747
CREATED:20240924T111856Z
LAST-MODIFIED:20241029T143736Z
UID:47030-1731763800-1731772800@anne-ermens.com
SUMMARY:Workshop Ukelele & Zang in thema 'Kampvuurliedjes'\, Breda (voor beginners\, eigen ukelele niet nodig)
DESCRIPTION:Lees meer en bestel je kaartje in de webshop!
URL:https://anne-ermens.com/agenda/workshop-ukelele-zang-in-thema-kampvuurliedjes-breda-voor-beginners-eigen-ukelele-niet-nodig-6/
CATEGORIES:Workshop Ukelele & Zang
ATTACH;FMTTYPE=image/webp:https://anne-ermens.com/wp-content/uploads/2024/09/Kampvuurliedjes-met-Ukelele-Zang-workshop-kaartje-Webshop-1730197694.webp
END:VEVENT
BEGIN:VEVENT
DTSTART;VALUE=DATE:20240926
DTEND;VALUE=DATE:20240927
DTSTAMP:20260420T115747
CREATED:20240630T084706Z
LAST-MODIFIED:20240804T142230Z
UID:44419-1727308800-1727395199@anne-ermens.com
SUMMARY:Muziekworkshop Bibliotheek
DESCRIPTION:Ook nieuwsgierig naar zo’n workshop\, kijk dan hier!
URL:https://anne-ermens.com/agenda/muziekworkshop-bibliotheek/
CATEGORIES:Workshop Ukelele & Zang
END:VEVENT
BEGIN:VEVENT
DTSTART;TZID=Europe/Amsterdam:20240921T133000
DTEND;TZID=Europe/Amsterdam:20240921T160000
DTSTAMP:20260420T115747
CREATED:20240806T091959Z
LAST-MODIFIED:20240806T092517Z
UID:44858-1726925400-1726934400@anne-ermens.com
SUMMARY:Workshop Ukelele & Zang in thema ‘Kampvuurliedjes’\, Breda (voor beginners\, eigen ukelele niet nodig)
DESCRIPTION:Lees meer en bestel je kaartje in de webshop!
URL:https://anne-ermens.com/agenda/workshop-ukelele-zang-in-thema-kampvuurliedjes-breda-voor-beginners-eigen-ukelele-niet-nodig-5/
LOCATION:Anne Ermens\, Koepeldistrict\, Breda\, Netherlands
CATEGORIES:Workshop Ukelele & Zang
END:VEVENT
BEGIN:VEVENT
DTSTART;TZID=Europe/Amsterdam:20240720T133000
DTEND;TZID=Europe/Amsterdam:20240720T160000
DTSTAMP:20260420T115747
CREATED:20240614T183521Z
LAST-MODIFIED:20240615T173956Z
UID:44316-1721482200-1721491200@anne-ermens.com
SUMMARY:Workshop Ukelele & Zang in thema ‘Kampvuurliedjes’ (voor beginners\, eigen ukelele niet nodig)
DESCRIPTION:Lees meer en bestel je kaartje in de webshop!
URL:https://anne-ermens.com/agenda/workshop-ukelele-zang-in-thema-kampvuurliedjes-zaterdag-20-juli-2024-voor-beginners-eigen-ukelele-niet-nodig/
LOCATION:Anne Ermens\, Koepeldistrict\, Breda\, Netherlands
CATEGORIES:Workshop Ukelele & Zang
END:VEVENT
BEGIN:VEVENT
DTSTART;TZID=Europe/Amsterdam:20240705T193000
DTEND;TZID=Europe/Amsterdam:20240705T213000
DTSTAMP:20260420T115747
CREATED:20231228T224314Z
LAST-MODIFIED:20240615T174057Z
UID:38583-1720207800-1720215000@anne-ermens.com
SUMMARY:Workshop Ukelele & Zang in thema ‘Kampvuurliedjes’\, Breda (voor beginners\, eigen ukelele niet nodig)
DESCRIPTION:Lees meer en bestel je kaartje in de webshop!
URL:https://anne-ermens.com/agenda/workshop-ukelele-zang-in-thema-kampvuurliedjes-breda-voor-beginners-eigen-ukelele-niet-nodig-4/
LOCATION:Anne Ermens\, Koepeldistrict\, Breda\, Netherlands
CATEGORIES:Workshop Ukelele & Zang
END:VEVENT
BEGIN:VEVENT
DTSTART;TZID=Europe/Amsterdam:20240628T193000
DTEND;TZID=Europe/Amsterdam:20240628T213000
DTSTAMP:20260420T115747
CREATED:20231228T224226Z
LAST-MODIFIED:20240615T174034Z
UID:38581-1719603000-1719610200@anne-ermens.com
SUMMARY:Workshop Ukelele & Zang in thema ‘Kampvuurliedjes’\, Breda (voor beginners\, eigen ukelele niet nodig)
DESCRIPTION:Lees meer en bestel je kaartje in de webshop!
URL:https://anne-ermens.com/agenda/workshop-ukelele-zang-in-thema-kampvuurliedjes-breda-voor-beginners-eigen-ukelele-niet-nodig-3/
LOCATION:Anne Ermens\, Koepeldistrict\, Breda\, Netherlands
CATEGORIES:Workshop Ukelele & Zang
END:VEVENT
BEGIN:VEVENT
DTSTART;VALUE=DATE:20240322
DTEND;VALUE=DATE:20240323
DTSTAMP:20260420T115747
CREATED:20231228T224146Z
LAST-MODIFIED:20240125T222722Z
UID:38579-1711065600-1711151999@anne-ermens.com
SUMMARY:Workshop Ukelele & Zang in thema ‘Kampvuurliedjes’\, Breda (voor beginners\, eigen ukelele niet nodig)
DESCRIPTION:Lees meer en bestel je kaartje in de webshop!
URL:https://anne-ermens.com/agenda/workshop-ukelele-zang-in-thema-kampvuurliedjes-breda-voor-beginners-eigen-ukelele-niet-nodig-2/
LOCATION:Anne Ermens\, Koepeldistrict\, Breda\, Netherlands
CATEGORIES:Workshop Ukelele & Zang
END:VEVENT
BEGIN:VEVENT
DTSTART;VALUE=DATE:20240202
DTEND;VALUE=DATE:20240203
DTSTAMP:20260420T115747
CREATED:20230818T135243Z
LAST-MODIFIED:20240125T222732Z
UID:35944-1706832000-1706918399@anne-ermens.com
SUMMARY:Workshop Ukelele & Zang in thema 'Kinderliedjes'\, Breda (voor beginners\, eigen ukelele niet nodig)
DESCRIPTION:Lees meer en bestel je kaartje in de webshop!
URL:https://anne-ermens.com/agenda/workshop-ukelele-zang-in-thema-kinderliedjes-breda-voor-beginners-eigen-ukelele-niet-nodig-2/
LOCATION:Anne Ermens\, Koepeldistrict\, Breda\, Netherlands
CATEGORIES:Workshop Ukelele & Zang
END:VEVENT
BEGIN:VEVENT
DTSTART;VALUE=DATE:20240119
DTEND;VALUE=DATE:20240120
DTSTAMP:20260420T115747
CREATED:20230818T135331Z
LAST-MODIFIED:20230818T135331Z
UID:35946-1705622400-1705708799@anne-ermens.com
SUMMARY:Workshop Ukelele & Zang in thema 'Kampvuurliedjes'\, Breda (voor beginners\, eigen ukelele niet nodig)
DESCRIPTION:Lees meer en bestel je kaartje in de webshop!
URL:https://anne-ermens.com/agenda/workshop-ukelele-zang-in-thema-kampvuurliedjes-breda-voor-beginners-eigen-ukelele-niet-nodig/
CATEGORIES:Workshop Ukelele & Zang
END:VEVENT
BEGIN:VEVENT
DTSTART;VALUE=DATE:20240117
DTEND;VALUE=DATE:20240119
DTSTAMP:20260420T115747
CREATED:20231014T155835Z
LAST-MODIFIED:20231027T100157Z
UID:36830-1705449600-1705622399@anne-ermens.com
SUMMARY:Muziekworkshop Bedrijf (besloten)
DESCRIPTION:Besloten muziekworkshop. Ook nieuwsgierig naar zo’n workshop\, kijk dan hier!
URL:https://anne-ermens.com/agenda/zangworkshop-bedrijf-besloten-optie-2/
CATEGORIES:Workshop Ukelele & Zang
END:VEVENT
BEGIN:VEVENT
DTSTART;VALUE=DATE:20231201
DTEND;VALUE=DATE:20231202
DTSTAMP:20260420T115747
CREATED:20230818T135505Z
LAST-MODIFIED:20230818T135505Z
UID:35952-1701388800-1701475199@anne-ermens.com
SUMMARY:Workshop Ukelele & Zang in thema 'Kerstliedjes'\, Breda (voor beginners\, eigen ukelele niet nodig)
DESCRIPTION:Lees meer en bestel je kaartje in de webshop!
URL:https://anne-ermens.com/agenda/workshop-ukelele-zang-in-thema-kerstliedjes-breda-voor-beginners-eigen-ukelele-niet-nodig-2/
CATEGORIES:Workshop Ukelele & Zang
END:VEVENT
BEGIN:VEVENT
DTSTART;VALUE=DATE:20231124
DTEND;VALUE=DATE:20231125
DTSTAMP:20260420T115747
CREATED:20230818T135412Z
LAST-MODIFIED:20230818T135412Z
UID:35948-1700784000-1700870399@anne-ermens.com
SUMMARY:Workshop Ukelele & Zang in thema 'Kerstliedjes'\, Breda (voor beginners\, eigen ukelele niet nodig)
DESCRIPTION:Lees meer en bestel je kaartje in de webshop!
URL:https://anne-ermens.com/agenda/workshop-ukelele-zang-in-thema-kerstliedjes-breda-voor-beginners-eigen-ukelele-niet-nodig/
CATEGORIES:Workshop Ukelele & Zang
END:VEVENT
BEGIN:VEVENT
DTSTART;VALUE=DATE:20231025
DTEND;VALUE=DATE:20231026
DTSTAMP:20260420T115747
CREATED:20230904T120403Z
LAST-MODIFIED:20230915T134222Z
UID:36165-1698192000-1698278399@anne-ermens.com
SUMMARY:Workshop Ukelele/Zang Bedrijf (besloten)
DESCRIPTION:Besloten zangworkshop. Ook nieuwsgierig naar zo’n workshop\, kijk dan hier!
URL:https://anne-ermens.com/agenda/workshop-ukelele-zang-bedrijf-besloten/
CATEGORIES:Workshop Ukelele & Zang
END:VEVENT
BEGIN:VEVENT
DTSTART;VALUE=DATE:20231013
DTEND;VALUE=DATE:20231014
DTSTAMP:20260420T115747
CREATED:20230818T135025Z
LAST-MODIFIED:20230818T135025Z
UID:35942-1697155200-1697241599@anne-ermens.com
SUMMARY:Workshop Ukelele & Zang in thema 'Kinderliedjes'\, Breda (voor beginners\, eigen ukelele niet nodig)
DESCRIPTION:Lees meer en bestel je kaartje in de webshop!
URL:https://anne-ermens.com/agenda/workshop-ukelele-zang-in-thema-kinderliedjes-breda-voor-beginners-eigen-ukelele-niet-nodig/
CATEGORIES:Workshop Ukelele & Zang
END:VEVENT
BEGIN:VEVENT
DTSTART;VALUE=DATE:20230728
DTEND;VALUE=DATE:20230729
DTSTAMP:20260420T115747
CREATED:20230525T105907Z
LAST-MODIFIED:20230525T105907Z
UID:35056-1690502400-1690588799@anne-ermens.com
SUMMARY:Workshop Ukelele & Zang in thema 'Kampvuurliedjes'\, Breda
DESCRIPTION:Lees meer en bestel je kaartje in de webshop!
URL:https://anne-ermens.com/agenda/workshop-ukelele-zang-in-thema-kampvuurliedjes-breda-3/
CATEGORIES:Workshop Ukelele & Zang
END:VEVENT
BEGIN:VEVENT
DTSTART;VALUE=DATE:20230617
DTEND;VALUE=DATE:20230618
DTSTAMP:20260420T115747
CREATED:20230525T105846Z
LAST-MODIFIED:20230525T105846Z
UID:35054-1686960000-1687046399@anne-ermens.com
SUMMARY:Workshop Ukelele & Zang in thema 'Kampvuurliedjes'\, Breda
DESCRIPTION:Lees meer en bestel je kaartje in de webshop!
URL:https://anne-ermens.com/agenda/workshop-ukelele-zang-in-thema-kampvuurliedjes-breda-2/
CATEGORIES:Workshop Ukelele & Zang
END:VEVENT
END:VCALENDAR