BEGIN:VCALENDAR
VERSION:2.0
PRODID:-//Anne Ermens - ECPv6.15.20//NONSGML v1.0//EN
CALSCALE:GREGORIAN
METHOD:PUBLISH
X-WR-CALNAME:Anne Ermens
X-ORIGINAL-URL:https://anne-ermens.com
X-WR-CALDESC:Evenementen voor Anne Ermens
REFRESH-INTERVAL;VALUE=DURATION:PT1H
X-Robots-Tag:noindex
X-PUBLISHED-TTL:PT1H
BEGIN:VTIMEZONE
TZID:Europe/Amsterdam
BEGIN:DAYLIGHT
TZOFFSETFROM:+0100
TZOFFSETTO:+0200
TZNAME:CEST
DTSTART:20220327T010000
END:DAYLIGHT
BEGIN:STANDARD
TZOFFSETFROM:+0200
TZOFFSETTO:+0100
TZNAME:CET
DTSTART:20221030T010000
END:STANDARD
BEGIN:DAYLIGHT
TZOFFSETFROM:+0100
TZOFFSETTO:+0200
TZNAME:CEST
DTSTART:20230326T010000
END:DAYLIGHT
BEGIN:STANDARD
TZOFFSETFROM:+0200
TZOFFSETTO:+0100
TZNAME:CET
DTSTART:20231029T010000
END:STANDARD
BEGIN:DAYLIGHT
TZOFFSETFROM:+0100
TZOFFSETTO:+0200
TZNAME:CEST
DTSTART:20240331T010000
END:DAYLIGHT
BEGIN:STANDARD
TZOFFSETFROM:+0200
TZOFFSETTO:+0100
TZNAME:CET
DTSTART:20241027T010000
END:STANDARD
END:VTIMEZONE
BEGIN:VEVENT
DTSTART;TZID=Europe/Amsterdam:20230217T200000
DTEND;TZID=Europe/Amsterdam:20230217T223000
DTSTAMP:20260422T202230
CREATED:20230515T153207Z
LAST-MODIFIED:20230515T153207Z
UID:34933-1676664000-1676673000@anne-ermens.com
SUMMARY:Zangavond 'Kleffe Duetten'\, Breda
DESCRIPTION:Kom in de week van Valentijnsdag de hele vrijdagavond lekker zingen in Breda in thema ‘Kleffe Duetten’! \nLees meer en bestel je kaartje in de webshop!
URL:https://anne-ermens.com/agenda/zangavond-kleffe-duetten-breda/
CATEGORIES:Zangavond
END:VEVENT
END:VCALENDAR