BEGIN:VCALENDAR
VERSION:2.0
PRODID:-//Anne Ermens - ECPv6.15.20//NONSGML v1.0//EN
CALSCALE:GREGORIAN
METHOD:PUBLISH
X-ORIGINAL-URL:https://anne-ermens.com
X-WR-CALDESC:Evenementen voor Anne Ermens
REFRESH-INTERVAL;VALUE=DURATION:PT1H
X-Robots-Tag:noindex
X-PUBLISHED-TTL:PT1H
BEGIN:VTIMEZONE
TZID:Europe/Amsterdam
BEGIN:DAYLIGHT
TZOFFSETFROM:+0100
TZOFFSETTO:+0200
TZNAME:CEST
DTSTART:20230326T010000
END:DAYLIGHT
BEGIN:STANDARD
TZOFFSETFROM:+0200
TZOFFSETTO:+0100
TZNAME:CET
DTSTART:20231029T010000
END:STANDARD
BEGIN:DAYLIGHT
TZOFFSETFROM:+0100
TZOFFSETTO:+0200
TZNAME:CEST
DTSTART:20240331T010000
END:DAYLIGHT
BEGIN:STANDARD
TZOFFSETFROM:+0200
TZOFFSETTO:+0100
TZNAME:CET
DTSTART:20241027T010000
END:STANDARD
BEGIN:DAYLIGHT
TZOFFSETFROM:+0100
TZOFFSETTO:+0200
TZNAME:CEST
DTSTART:20250330T010000
END:DAYLIGHT
BEGIN:STANDARD
TZOFFSETFROM:+0200
TZOFFSETTO:+0100
TZNAME:CET
DTSTART:20251026T010000
END:STANDARD
END:VTIMEZONE
BEGIN:VEVENT
DTSTART;TZID=Europe/Amsterdam:20240607T193000
DTEND;TZID=Europe/Amsterdam:20240607T220000
DTSTAMP:20260421T180244
CREATED:20240424T104548Z
LAST-MODIFIED:20240424T110352Z
UID:42904-1717788600-1717797600@anne-ermens.com
SUMMARY:Zangavond 'Grease & Sound of Music'
DESCRIPTION:Lees meer en bestel je kaartje in de webshop!
URL:https://anne-ermens.com/agenda/zangavond-grease-sound-of-music/
LOCATION:Anne Ermens\, Koepeldistrict\, Breda\, Netherlands
CATEGORIES:Zangavond
ATTACH;FMTTYPE=image/webp:https://anne-ermens.com/wp-content/uploads/2024/04/Webshop-Kaartjes-2024.webp
END:VEVENT
END:VCALENDAR