BEGIN:VCALENDAR
VERSION:2.0
PRODID:-//Anne Ermens - ECPv6.15.20//NONSGML v1.0//EN
CALSCALE:GREGORIAN
METHOD:PUBLISH
X-ORIGINAL-URL:https://anne-ermens.com
X-WR-CALDESC:Evenementen voor Anne Ermens
REFRESH-INTERVAL;VALUE=DURATION:PT1H
X-Robots-Tag:noindex
X-PUBLISHED-TTL:PT1H
BEGIN:VTIMEZONE
TZID:Europe/Amsterdam
BEGIN:DAYLIGHT
TZOFFSETFROM:+0100
TZOFFSETTO:+0200
TZNAME:CEST
DTSTART:20230326T010000
END:DAYLIGHT
BEGIN:STANDARD
TZOFFSETFROM:+0200
TZOFFSETTO:+0100
TZNAME:CET
DTSTART:20231029T010000
END:STANDARD
BEGIN:DAYLIGHT
TZOFFSETFROM:+0100
TZOFFSETTO:+0200
TZNAME:CEST
DTSTART:20240331T010000
END:DAYLIGHT
BEGIN:STANDARD
TZOFFSETFROM:+0200
TZOFFSETTO:+0100
TZNAME:CET
DTSTART:20241027T010000
END:STANDARD
BEGIN:DAYLIGHT
TZOFFSETFROM:+0100
TZOFFSETTO:+0200
TZNAME:CEST
DTSTART:20250330T010000
END:DAYLIGHT
BEGIN:STANDARD
TZOFFSETFROM:+0200
TZOFFSETTO:+0100
TZNAME:CET
DTSTART:20251026T010000
END:STANDARD
END:VTIMEZONE
BEGIN:VEVENT
DTSTART;TZID=Europe/Amsterdam:20241220T193000
DTEND;TZID=Europe/Amsterdam:20241220T220000
DTSTAMP:20260421T083754
CREATED:20240920T113435Z
LAST-MODIFIED:20241029T143859Z
UID:46889-1734723000-1734732000@anne-ermens.com
SUMMARY:Zangavond in Breda in thema Kerst
DESCRIPTION:Lees meer en bestel je kaartje in de webshop!
URL:https://anne-ermens.com/agenda/zangavond-in-breda-in-thema-kerst/
LOCATION:Anne Ermens\, Koepeldistrict\, Breda\, Netherlands
CATEGORIES:Zangavond
ATTACH;FMTTYPE=image/webp:https://anne-ermens.com/wp-content/uploads/2024/09/Kerstliedjes-zingen-Zangworkshop-Kaartje-Zangavond-Kerst-Webshop-1730197663.webp
END:VEVENT
END:VCALENDAR