BEGIN:VCALENDAR
VERSION:2.0
PRODID:-//Anne Ermens - ECPv6.15.20//NONSGML v1.0//EN
CALSCALE:GREGORIAN
METHOD:PUBLISH
X-WR-CALNAME:Anne Ermens
X-ORIGINAL-URL:https://anne-ermens.com
X-WR-CALDESC:Evenementen voor Anne Ermens
REFRESH-INTERVAL;VALUE=DURATION:PT1H
X-Robots-Tag:noindex
X-PUBLISHED-TTL:PT1H
BEGIN:VTIMEZONE
TZID:Europe/Amsterdam
BEGIN:DAYLIGHT
TZOFFSETFROM:+0100
TZOFFSETTO:+0200
TZNAME:CEST
DTSTART:20240331T010000
END:DAYLIGHT
BEGIN:STANDARD
TZOFFSETFROM:+0200
TZOFFSETTO:+0100
TZNAME:CET
DTSTART:20241027T010000
END:STANDARD
BEGIN:DAYLIGHT
TZOFFSETFROM:+0100
TZOFFSETTO:+0200
TZNAME:CEST
DTSTART:20250330T010000
END:DAYLIGHT
BEGIN:STANDARD
TZOFFSETFROM:+0200
TZOFFSETTO:+0100
TZNAME:CET
DTSTART:20251026T010000
END:STANDARD
BEGIN:DAYLIGHT
TZOFFSETFROM:+0100
TZOFFSETTO:+0200
TZNAME:CEST
DTSTART:20260329T010000
END:DAYLIGHT
BEGIN:STANDARD
TZOFFSETFROM:+0200
TZOFFSETTO:+0100
TZNAME:CET
DTSTART:20261025T010000
END:STANDARD
END:VTIMEZONE
BEGIN:VEVENT
DTSTART;TZID=Europe/Amsterdam:20250103T193000
DTEND;TZID=Europe/Amsterdam:20250103T220000
DTSTAMP:20260421T070515
CREATED:20240920T113728Z
LAST-MODIFIED:20241029T144509Z
UID:46899-1735932600-1735941600@anne-ermens.com
SUMMARY:Zangavond in Breda in thema Top 2000
DESCRIPTION:Lees meer en bestel je kaartje in de webshop!
URL:https://anne-ermens.com/agenda/zangavond-in-breda-in-thema-top-2000/
LOCATION:Anne Ermens\, Koepeldistrict\, Breda\, Netherlands
CATEGORIES:Zangavond
ATTACH;FMTTYPE=image/webp:https://anne-ermens.com/wp-content/uploads/2024/09/Tijdelijk-Zangavond-Middag-1730197676.webp
END:VEVENT
END:VCALENDAR